BEGIN:VCALENDAR
VERSION:2.0
PRODID:-//Empire Valuation Consultants - ECPv6.15.20//NONSGML v1.0//EN
CALSCALE:GREGORIAN
METHOD:PUBLISH
X-ORIGINAL-URL:https://empireval.com
X-WR-CALDESC:Events for Empire Valuation Consultants
REFRESH-INTERVAL;VALUE=DURATION:PT1H
X-Robots-Tag:noindex
X-PUBLISHED-TTL:PT1H
BEGIN:VTIMEZONE
TZID:America/New_York
BEGIN:DAYLIGHT
TZOFFSETFROM:-0500
TZOFFSETTO:-0400
TZNAME:EDT
DTSTART:20250309T070000
END:DAYLIGHT
BEGIN:STANDARD
TZOFFSETFROM:-0400
TZOFFSETTO:-0500
TZNAME:EST
DTSTART:20251102T060000
END:STANDARD
BEGIN:DAYLIGHT
TZOFFSETFROM:-0500
TZOFFSETTO:-0400
TZNAME:EDT
DTSTART:20260308T070000
END:DAYLIGHT
BEGIN:STANDARD
TZOFFSETFROM:-0400
TZOFFSETTO:-0500
TZNAME:EST
DTSTART:20261101T060000
END:STANDARD
BEGIN:DAYLIGHT
TZOFFSETFROM:-0500
TZOFFSETTO:-0400
TZNAME:EDT
DTSTART:20270314T070000
END:DAYLIGHT
BEGIN:STANDARD
TZOFFSETFROM:-0400
TZOFFSETTO:-0500
TZNAME:EST
DTSTART:20271107T060000
END:STANDARD
END:VTIMEZONE
BEGIN:VEVENT
DTSTART;VALUE=DATE:20260304
DTEND;VALUE=DATE:20260309
DTSTAMP:20260423T132356
CREATED:20260224T162008Z
LAST-MODIFIED:20260302T182613Z
UID:9183-1772582400-1773014399@empireval.com
SUMMARY:ACTEC 2026 Annual Meeting
DESCRIPTION:Empire Valuation Consultants is pleased to sponsor at the\nACTEC 2026 Annual Meeting \nAttending: \n\n\n\n\n\n\n\nRich Hayes\nManaging Director\nNew York\n212.714.1267 | E-mail \n\n\n\n\n\n\n\nKevin Kane\nSenior Managing Director\nSan Francisco \n415.590.4877 | E-mail \n\n\n\n\n\n\n\n\n\n\n\nAndrew Olander\nDirector\nRochester \n585.794.5293 | E-mail \n\n\n\n\n\n\n\nDavid Rooney\nDirector\nNew York \n646.664.0546 | E-mail \n\n\n\n\n\n\n\n\n\n\n\n\nNathan Schroeder\nManaging Director\nRochester\n585.794.5721| E-mail \n\n\n\n\n\n\n\nHugh Woodside\nSenior Managing Director\nRochester \n585.794.5720 | E-mail
URL:https://empireval.com/event/actec-2026-annual-meeting/
ATTACH;FMTTYPE=image/png:https://empireval.com/wp-content/uploads/2026/02/ACTEC.png
END:VEVENT
BEGIN:VEVENT
DTSTART;VALUE=DATE:20260310
DTEND;VALUE=DATE:20260312
DTSTAMP:20260423T132356
CREATED:20260224T165833Z
LAST-MODIFIED:20260302T182835Z
UID:9201-1773100800-1773273599@empireval.com
SUMMARY:New England Chapter - 2026 BOD/Trustee Conference
DESCRIPTION:Empire Valuation Consultants is pleased to sponsor at the\nNew England Chapter – 2026 BOD/Trustee Conference\n \nAttending: \n\n\n\n\n\n\nJade Palermo\nManaging Director\nBoston \n617.621.4080 | E-mail
URL:https://empireval.com/event/new-england-chapter-2026-bod-trustee-conference/
ATTACH;FMTTYPE=image/png:https://empireval.com/wp-content/uploads/2026/02/ESOP_NE.png
END:VEVENT
BEGIN:VEVENT
DTSTART;VALUE=DATE:20260311
DTEND;VALUE=DATE:20260313
DTSTAMP:20260423T132356
CREATED:20260224T165925Z
LAST-MODIFIED:20260302T182819Z
UID:9205-1773187200-1773359999@empireval.com
SUMMARY:New England Chapter - 2026 Spring Conference
DESCRIPTION:Empire Valuation Consultants is pleased to sponsor at the\nNew England Chapter – 2026 Spring Conference\n \nAttending: \n\n\n\n\n\n\nJade Palermo\nManaging Director\nBoston \n617.621.4080 | E-mail
URL:https://empireval.com/event/new-england-chapter-2026-spring-conference/
ATTACH;FMTTYPE=image/png:https://empireval.com/wp-content/uploads/2026/02/ESOP_NE.png
END:VEVENT
END:VCALENDAR